
BEGIN:VCALENDAR
VERSION:2.0
PRODID:-//Mesap - ECPv6.13.0//NONSGML v1.0//EN
CALSCALE:GREGORIAN
METHOD:PUBLISH
X-WR-CALNAME:Mesap
X-ORIGINAL-URL:https://www.mesap.it
X-WR-CALDESC:Eventi per Mesap
REFRESH-INTERVAL;VALUE=DURATION:PT1H
X-Robots-Tag:noindex
X-PUBLISHED-TTL:PT1H
BEGIN:VTIMEZONE
TZID:Europe/Rome
BEGIN:DAYLIGHT
TZOFFSETFROM:+0100
TZOFFSETTO:+0200
TZNAME:CEST
DTSTART:20170326T010000
END:DAYLIGHT
BEGIN:STANDARD
TZOFFSETFROM:+0200
TZOFFSETTO:+0100
TZNAME:CET
DTSTART:20171029T010000
END:STANDARD
END:VTIMEZONE
BEGIN:VEVENT
DTSTART;TZID=Europe/Rome:20171109T080000
DTEND;TZID=Europe/Rome:20171110T170000
DTSTAMP:20260425T170158
CREATED:20171010T150530Z
LAST-MODIFIED:20171115T101929Z
UID:4156-1510214400-1510333200@www.mesap.it
SUMMARY:ICT Proposers' Day 2017
DESCRIPTION:[vc_row][vc_column][vc_column_text]L’evento\, che si svolge a Budapest\, è dedicato alla presentazione delle Calls for Proposals 2018 degli Horizon 2020 Work Programmes nel campo dell’Information & Communication Technologies e delle Future and Emerging Technologies (FET). Si tratta di un’eccezionale opportunità per costruire partnership di qualità con centri di ricerca e aziende provenienti da tutta Europa. \nMESAP partecipa all’evento e sta per presentare\, per conto vostro\, proposte di interesse per collaborazioni\, progetti e richieste di B2B. \nPer informazioni sulla nostra partecipazione scrivete a r.caminiti@advisor.mesap.it \nPer approfondimenti sulle tematiche tecnologiche che saranno trattate e sui partecipanti al brokerage event: clicca qui.[/vc_column_text][/vc_column][/vc_row][vc_row][vc_column][/vc_column][/vc_row]
URL:https://www.mesap.it/event/ict-proposers-day-2017/
LOCATION:HUNGEXPO Budapest Fair Center\, Albertirsai út 10\, Budapest\, Ungheria
ATTACH;FMTTYPE=image/jpeg:https://www.mesap.it/wp-content/uploads/ictproposersday2017_2_25615-2.jpg
END:VEVENT
BEGIN:VEVENT
DTSTART;TZID=Europe/Rome:20171107T150000
DTEND;TZID=Europe/Rome:20171107T173000
DTSTAMP:20260425T170158
CREATED:20171030T134352Z
LAST-MODIFIED:20171109T112034Z
UID:4558-1510066800-1510075800@www.mesap.it
SUMMARY:Gruppo di Lavoro FoF (Fabbrica del Futuro) — 7 novembre 2017
DESCRIPTION:[vc_row][vc_column][vc_column_text]MESAP intende costituire un gruppo di lavoro che coinvolga gli associati sulle tematiche relative alla fabbrica del futuro per i  futuri Bandi H2020. \nIl Polo è infatti associato ad EFFRA (European Factory of the Future Research Association)\, l’associazione di riferimento a livello europeo. L’intento è di coinvolgere imprese ed organismi di ricerca sulle tematiche oggetto degli Info Days del 3-4/10 u.s. e del prossimo ICT Proposer Day del 9-10/11\, ai quali MESAP parteciperà. \n[/vc_column_text][vc_separator color=”custom” accent_color=”#065587″][/vc_column][/vc_row][vc_row][vc_column][vc_column_text]Durante l’incontro verranno \n Analizzati i bandi 2018 NMPB\, ICT relativi alle tematiche della fabbrica del futuro\n\nDT – FOF – 01 Skills needed for new manufacturing jobs (CSA)\nDT – FOF – 02 Effective Industrial Human – Robot collaboration (RIA)\nDT – FOF – 03 Innovative manufacturing of opto – electrical parts (RIA)\nDT – FOF – 04 Pilot lines for Metal Additive Manufacturing (IA 50%)\nDT-NMBP-20 A digital ‘plug & produce’ online equipment platform for manufacturing (IA)\nDT-ICT-07 Digital Manufacturing Platforms for Connected Smart Factories (IA)\nICT-03 Photonics Manufacturing Pilot Lines for Photonic Components & Devices(IA)\nICT-04 Photonics based manufacturing\, access to photonics\, datacom photonics and connected lighting (RIA + IA)\n\n Presentati i documenti disponibili degli Info Days del 3-4 Ottobre per FoF (escluse tematiche in corsivo)\n Comunicate manifestazioni di interesse da parte di imprese europee che cercano partner per la costruzione di idee progettuali H2020\n Raccolte idee progettuali da parte dei nostri associati che necessitano di partnership internazionali\n[/vc_column_text][vc_separator color=”custom” accent_color=”#065587″][/vc_column][/vc_row][vc_row][vc_column][vc_column_text]Modalità di partecipazione \nL’evento è gratuito e l’iscrizione è obbligatoria attraverso il form sottostante.[/vc_column_text][/vc_column][/vc_row][vc_row][vc_column][vc_column_text]Materiale \nSi rende disponibile il seguente materiale \n FoF Topics\n GdL Fof h2020-wp1820-leit-nmp_en\n GdL FoF h2020-wp1820-leit-ict_en\n Digital Manufacturing Topics\n Agenda e tematiche 2018 FoF\n Call for partners[/vc_column_text][/vc_column][/vc_row]
URL:https://www.mesap.it/event/gruppo-lavoro-fof-fabbrica-del-futuro/
LOCATION:Unione Industriale di Torino – Sala 3\, Sale Sindacali\, Via Vela 21\, Torino\, Torino\, 10128
ATTACH;FMTTYPE=image/jpeg:https://www.mesap.it/wp-content/uploads/pexels-photo-296883.jpeg
ORGANIZER;CN="Polo Mesap":MAILTO:segreteria@mesap.it
END:VEVENT
BEGIN:VEVENT
DTSTART;TZID=Europe/Rome:20171025T170000
DTEND;TZID=Europe/Rome:20171025T190000
DTSTAMP:20260425T170158
CREATED:20171019T083954Z
LAST-MODIFIED:20171019T084458Z
UID:4481-1508950800-1508958000@www.mesap.it
SUMMARY:Workshop "Fog computing"
DESCRIPTION:Workshop Innovazione Digitale per il Settore Industriale. \nLe soluzioni integrate “at the Edge”. Fog Computing: the missing link between the cloud and the edge. \nPer maggiori informazioni visita questo link. \nL’ingresso è libero\, la conferma è gradita all’indirizzo info@aizoongroup.com. \n  \n Programma
URL:https://www.mesap.it/event/workshop-fog-computing-2/
LOCATION:aizoOn\, Via Marostica 1\, Milano\, Italia
END:VEVENT
BEGIN:VEVENT
DTSTART;TZID=Europe/Rome:20171024T170000
DTEND;TZID=Europe/Rome:20171024T190000
DTSTAMP:20260425T170158
CREATED:20171019T083757Z
LAST-MODIFIED:20171019T084544Z
UID:4477-1508864400-1508871600@www.mesap.it
SUMMARY:Workshop "Fog computing"
DESCRIPTION:Workshop Innovazione Digitale per il Settore Industriale. \nLe soluzioni integrate “at the Edge”. Fog Computing: the missing link between the cloud and the edge. \nPer maggiori informazioni visita questo link. \nL’ingresso è libero\, la conferma è gradita all’indirizzo info@aizoongroup.com. \n  \n Programma
URL:https://www.mesap.it/event/workshop-fog-computing/
LOCATION:GAM\, Via Magenta 31\, Torino\, Italia
END:VEVENT
BEGIN:VEVENT
DTSTART;TZID=Europe/Rome:20171023T093000
DTEND;TZID=Europe/Rome:20171023T123000
DTSTAMP:20260425T170158
CREATED:20171017T095619Z
LAST-MODIFIED:20171026T125656Z
UID:4458-1508751000-1508761800@www.mesap.it
SUMMARY:Seminario sui bandi 2018-20 di Horizon 2020
DESCRIPTION:A breve si apriranno gli ultimi bandi del programma europeo per la ricerca & l’innovazione per il triennio 2018 – 2020. La mattina sarà l’occasione per conoscere meglio gli strumenti di finanziamento e i contenuti delle calls for proposal. \nIl seminario è organizzato congiuntamente dallo Sportello Horizon 2020 dell’Unione Industriale\, dal MESAP – Smart Products and Manufacturing e da Confindustria Piemonte nell’ambito della rete Enterprise Europe Network. \nSi tratta di un’iniziativa dedicata al manifatturiero\, un momento di analisi degli scenari per il rilancio dell’industria manifatturiera italiana per imprenditori e managers che rivestono ruoli o deleghe in materia d’innovazione. \nN.B. I contenuti dei materiali presentati potrebbero essere elaborati ancora sulla base dei Draft Work Programmes che non hanno valore legale fintantoché la Commissione europea non li adotta. Si informa che l’azione dovrebbe avvenire nel mese di Ottobre. \n  \nModalità di partecipazione\nPer aderire all’iniziativa compilare questo form di iscrizione. \n  \n Agenda dell’evento \n 
URL:https://www.mesap.it/event/seminario-sui-bandi-2018-20-horizon-2020/
LOCATION:Centro Congressi dell’Unione Industriale di Torino\, Via Vincenzo Vela 17\, Torino\, 10128\, Italy
ATTACH;FMTTYPE=image/jpeg:https://www.mesap.it/wp-content/uploads/pexels-photo-260619.jpeg
END:VEVENT
BEGIN:VEVENT
DTSTART;TZID=Europe/Rome:20171012T093000
DTEND;TZID=Europe/Rome:20171012T130000
DTSTAMP:20260425T170158
CREATED:20170919T143151Z
LAST-MODIFIED:20171026T125735Z
UID:4056-1507800600-1507813200@www.mesap.it
SUMMARY:Collaborative Project Building Day — Presentazione di idee e costruzione di partnership per il prossimo bando dedicato ai Poli di Innovazione
DESCRIPTION:In occasione della prossima pubblicazione dei bandi per la ricerca e il trasferimento tecnologico per i soggetti aggregati e non aggregati ai Poli d’Innovazione\, Mesap dedica una giornata alla presentazione dei progetti e degli studi di fattibilità che sono pervenuti al Polo attraverso l’ultima chiamata. \nLa giornata del 12 ottobre sarà l’occasione per individuare i partner di progetto tra quelli presenti all’evento. \nLa mattinata sarà organizzata in tre momenti: verrà presentata l’Agenda Strategica del Polo a cui seguiranno i pitch a cura delle aziende proponenti e uno spazio dedicato al networking per la costituzione di partnership di progetto. \nLa registrazione all’evento\, al quale parteciperà anche l’ITS meccatronica/aerospazio\, è gratuita e obbligatoria.
URL:https://www.mesap.it/event/collaborative-project-building-day-presentazione-idee-costruzione-partnership-prossimo-bando-dedicato-ai-poli-innovazione/
LOCATION:Unione Industriale di Torino – Sala 3\, Sale Sindacali\, Via Vela 21\, Torino\, Torino\, 10128
ATTACH;FMTTYPE=image/jpeg:https://www.mesap.it/wp-content/uploads/pexels-photo-260619.jpeg
ORGANIZER;CN="Polo Mesap":MAILTO:segreteria@mesap.it
END:VEVENT
BEGIN:VEVENT
DTSTART;TZID=Europe/Rome:20171003T093000
DTEND;TZID=Europe/Rome:20171003T123000
DTSTAMP:20260425T170158
CREATED:20170913T104143Z
LAST-MODIFIED:20171017T100048Z
UID:4023-1507023000-1507033800@www.mesap.it
SUMMARY:Take Away dell'Innovazione — L’ottimizzazione della complessità
DESCRIPTION:[vc_row][vc_column][vc_column_text]Nell’ambito del programma “Take-away dell’innovazione”\, ideato e realizzato da Mesap in collaborazione con l’Hub Innovazione dell’Unione Industriale di Torino\, proponiamo un primo seminario dedicato agli strumenti per lo sviluppo del prodotto che avrà luogo il 3 ottobre in Sala Torino\, al Centro Congressi di via Vela 17. \nProgramma:[/vc_column_text][/vc_column][/vc_row][vc_row][vc_column][vc_column_text css=”.vc_custom_1506616160104{padding-top: 2rem !important;padding-right: 2rem !important;padding-bottom: 2rem !important;padding-left: 2rem !important;background-color: #efefef !important;}”]PRIMA PARTE \n  \nPresentazione azienda\, tecnologie e case study \nMaurizio Sperati\, Direttore Commerciale Altair \n  \nLa simulazione dinamica ottimizzata: l’analisi del comportamento in frenata di un autoveicolo \nNicolò Indovina\, Vehicle Dynamics Engineer presso Ankers juss-amg \n  \n  \nLa simulazione per la Manifattura Additiva: l’esperienza della Scuola Camerana \nClaudio Piviotti\, vicedirettore di Scuola Camerana \n  \n  \nPensare fuori dagli schemi: liberare il potenziale dell’Additive Manufacturing con nuove tecniche di progettazione \nGiulio Turinetti\, Business Developer Altair \n  \n  \nSECONDA PARTE \nSessione di sperimentazione interattiva[/vc_column_text][/vc_column][/vc_row][vc_row][vc_column][vc_column_text]Di seguito è possibile scaricare le presentazioni della giornata: \n Altair \n Ankers \n Scuola Camerana[/vc_column_text][/vc_column][/vc_row]
URL:https://www.mesap.it/event/take-away-dellinnovazione-strumenti-lo-sviluppo-del-prodotto-altair/
LOCATION:Centro Congressi dell’Unione Industriale di Torino\, Via Vincenzo Vela 17\, Torino\, 10128\, Italy
ATTACH;FMTTYPE=image/jpeg:https://www.mesap.it/wp-content/uploads/Felix_3D_Printer_-_Printing_Head.jpg
ORGANIZER;CN="Polo Mesap":MAILTO:segreteria@mesap.it
END:VEVENT
BEGIN:VEVENT
DTSTART;TZID=Europe/Rome:20170725T093000
DTEND;TZID=Europe/Rome:20170725T143000
DTSTAMP:20260425T170158
CREATED:20170630T090656Z
LAST-MODIFIED:20170731T132759Z
UID:3645-1500975000-1500993000@www.mesap.it
SUMMARY:Inter-Cluster Day — Verso il nuovo bando dei Poli di Innovazione
DESCRIPTION:Un evento dedicato ad aggiornamenti\, progettualità\, agende di ricerca\, open mic\, networking intersettoriale.\nI sette Poli di Innovazione piemontesi – in collaborazione con la Regione Piemonte – hanno organizzato una mattinata di lavoro per fornire alle imprese piemontesi\, aderenti e non\, le prime anticipazioni sul prossimo bando dei Poli di Innovazione. Un appuntamento per fare sistema a livello regionale\, che ha offerto ai partecipanti opportunità di business networking attraverso l’incontro con imprese provenienti da settori economici diversi e complementari. \n  \nAgenda \n9.30 – Registrazione partecipanti \n9.45 – Benvenuto e introduzione ai Poli di Innovazione\na cura di Environment Park \n10.00 – Agende strategiche di ricerca: cosa cercano i Poli\na cura dei soggetti gestori \nCoffee break \n11.00 – Il sistema dei Poli tra passato\, presente e futuro\na cura della Regione Piemonte \n11.30 – Q&A \n12.00 – Open Mic: la parola alle imprese\ngli aderenti ai Poli presentano idee di ricerca e innovazione \nLight Lunch \n14.00 – Incontri B2B\nnetworking tra imprese e incontri con i gestori dei Poli \n  \nOpen Mic\nQualche minuto di microfono a disposizione per le imprese che hanno voluto presentare le progettualità candidate alle Agende di Ricerca dei Poli\, con l’obiettivo di trovare nuovi partner provenienti da altri settori di attività. \n  \nI Poli di Innovazione\n \nMesap\, gestito da Centro Servizi Industrie srl di Torino. \nPresentazione Mesap\n \nAgrifood\, gestito dal M.I.A.C. di Cuneo. \nPresentazione Agrifood \nbioPmed\, gestito dal Bioindustry Park di Colleretto Giacosa. \nPresentazione bioPmed \nCGreen\, gestito da PST S.p.a.\, Consorzio Proplast e Consorzio IBIS. \nPresentazione Cgreen \nClever\, gestito dall’Environment Park di Torino e dal Consorzio Un.I.Ver. di Vercelli. \nPresentazione Clever \nPolo ICT\, gestito da Fondazione Torino Wireless. \nPresentazione Polo ICT\n \nPointex\, gestito da Città Studi Spa di Biella. \nPresentazione Pointex \n 
URL:https://www.mesap.it/event/inter-cluster-day-verso-bando-dei-poli-innovazione/
LOCATION:Environment Park – Centro Congressi\, Via Livorno 60\, Torino\, Italia
ATTACH;FMTTYPE=image/jpeg:https://www.mesap.it/wp-content/uploads/IMG_3138.jpg
END:VEVENT
BEGIN:VEVENT
DTSTART;TZID=Europe/Rome:20170706T100000
DTEND;TZID=Europe/Rome:20170707T130000
DTSTAMP:20260425T170158
CREATED:20170629T155917Z
LAST-MODIFIED:20170629T160204Z
UID:3602-1499335200-1499432400@www.mesap.it
SUMMARY:SPM2017: la convention annuale Mesap
DESCRIPTION:Fare squadra per l’innovazione\nOgni anno Mesap\, nella sua convention\, riunisce il suo network per un momento di aggiornamento su trend tecnologici e di mercato\, di presentazioni e incontri.\nIl tema del 2017 esprime il cuore della mission del Polo. \nScopri il programma completo sul sito dedicato. \n  \nLa partecipazione all’evento è gratuita e la prenotazione è obbligatoria a questo link.
URL:https://www.mesap.it/event/smart-products-and-manufacturing-2017-la-convention-annuale-mesap/
LOCATION:Centro Congressi dell’Unione Industriale di Torino\, Via Vincenzo Vela 17\, Torino\, 10128\, Italy
ATTACH;FMTTYPE=image/jpeg:https://www.mesap.it/wp-content/uploads/sfondo-sito-03-03.jpg
ORGANIZER;CN="Polo Mesap":MAILTO:segreteria@mesap.it
END:VEVENT
BEGIN:VEVENT
DTSTART;TZID=Europe/Rome:20170629T143000
DTEND;TZID=Europe/Rome:20170629T163000
DTSTAMP:20260425T170158
CREATED:20170629T165041Z
LAST-MODIFIED:20170629T165041Z
UID:3610-1498746600-1498753800@www.mesap.it
SUMMARY:Gruppi di Lavoro B2B
DESCRIPTION:Seconda sessione annuale dei “Gruppi di Lavoro btob”\, due momenti di presentazioni e btob per favorire la conoscenza l’incontro e lo scambio informativo tra i membri del MESAP\, al fine di avviare rapporti di collaborazione finalizzati sia al business sia allo sviluppo di attività di ricerca collaborativa.
URL:https://www.mesap.it/event/gruppi-lavoro-b2b/
LOCATION:Centro Congressi dell’Unione Industriale di Torino\, Via Vincenzo Vela 17\, Torino\, 10128\, Italy
ATTACH;FMTTYPE=image/jpeg:https://www.mesap.it/wp-content/uploads/IMG_3391.jpg
ORGANIZER;CN="Polo Mesap":MAILTO:segreteria@mesap.it
END:VEVENT
BEGIN:VEVENT
DTSTART;TZID=Europe/Rome:20170623T093000
DTEND;TZID=Europe/Rome:20170623T123000
DTSTAMP:20260425T170158
CREATED:20170328T152634Z
LAST-MODIFIED:20171016T072220Z
UID:2565-1498210200-1498221000@www.mesap.it
SUMMARY:Take Away dell'Innovazione — Soluzioni per sistemi di misura in produzione
DESCRIPTION:Nell’ambito del ciclo di incontri del Take Away dell’Innovazione l’azienda RENISHAW terrà un incontro dedicato alle sue soluzioni per sistemi di misura in produzione. \n  \nGiunto alla sua quarta edizione\, il Take Away dell’Innovazione è un’iniziativa rivolta alle aziende interessate a scoprire prodotti e servizi pronti per essere integrati ed utilizzati in fabbrica. \n  \nDi seguito è possibile scaricare le presentazioni della giornata:\n Equator\n Sistemi a 5 assi \n  \n  Scopri l’agenda completa \n 
URL:https://www.mesap.it/event/take-away-dellinnovazione-soluzioni-sistemi-misura-produzione/
LOCATION:Centro Congressi dell’Unione Industriale di Torino\, Via Vincenzo Vela 17\, Torino\, 10128\, Italy
ATTACH;FMTTYPE=image/jpeg:https://www.mesap.it/wp-content/uploads/IMG_3391.jpg
ORGANIZER;CN="Polo Mesap":MAILTO:segreteria@mesap.it
END:VEVENT
BEGIN:VEVENT
DTSTART;TZID=Europe/Rome:20170609T093000
DTEND;TZID=Europe/Rome:20170609T123000
DTSTAMP:20260425T170158
CREATED:20170517T083618Z
LAST-MODIFIED:20170919T092902Z
UID:2535-1497000600-1497011400@www.mesap.it
SUMMARY:Take Away dell'Innovazione — La misura dimensionale portatile: laser tracking\, radar e scanning
DESCRIPTION:Nell’ambito del ciclo di incontri del Take Away dell’Innovazione il nostro associato AXIST\, con i suoi collaudi dimensionali\, terrà un incontro dedicato alla misura dimensionale portatile: laser tracking\, radar e scanning. \n  \nGiunto alla sua quarta edizione\, il Take Away dell’Innovazione è un’iniziativa rivolta alle aziende interessate a scoprire prodotti e servizi pronti per essere integrati ed utilizzati in fabbrica. \n  \nDi seguito è possibile scaricare le presentazioni della giornata: \n Aeronautica\n Robot\n La misura di attrezzature di lastratura \n  \n  Scopri l’agenda completa 
URL:https://www.mesap.it/event/take-away-innovazione-axist-misura-dimensionale-portatile/
LOCATION:Centro Congressi dell’Unione Industriale di Torino\, Via Vincenzo Vela 17\, Torino\, 10128\, Italy
ATTACH;FMTTYPE=image/jpeg:https://www.mesap.it/wp-content/uploads/IMG_2755.jpg
ORGANIZER;CN="Polo Mesap":MAILTO:segreteria@mesap.it
END:VEVENT
BEGIN:VEVENT
DTSTART;TZID=Europe/Rome:20170608T143000
DTEND;TZID=Europe/Rome:20170608T173000
DTSTAMP:20260425T170158
CREATED:20170525T072844Z
LAST-MODIFIED:20170526T152026Z
UID:3337-1496932200-1496943000@www.mesap.it
SUMMARY:Gruppi di Lavoro "b2b" - 8 giugno 2017: sessione di presentazioni aziendali
DESCRIPTION:Seconda sessione annuale dei “Gruppi di Lavoro btob”\, due momenti di presentazioni e btob per favorire la conoscenza l’incontro e lo scambio informativo tra i membri del MESAP\, al fine di avviare rapporti di collaborazione finalizzati sia al business sia allo sviluppo di attività di ricerca collaborativa. \nSessione di presentazioni aziendali: 8 giugno 2017 a partire dalle ore 14\,30 presso l’Unione Industriale di Torino \nAgenda: \n\n14\,30: breve aggiornamento delle attività in corso a cura del MESAP\n14\,45: sequenza di 15 presentazioni dei membri (presentazioni membri – 5 minuti/5 slides per ciascuno)\n16\,00: coffee break\n16\,15: sequenza di 15 presentazioni dei membri (presentazioni membri – 5 minuti/5 slides per ciascuno)\n17.30: chiusura della riunione\n\n  \n  \nIl numero di posti è limitato. La partecipazione all’evento è gratuita previa registrazione su questa pagina. \nChi desidera tenere la presentazione è pregato di comunicarlo a segreteria@mesap.it. \nI Gruppi di Lavoro sono aperti anche alla partecipazione dei rappresentanti degli organismi di ricerca. \n  \nLa sessione di btob aziendali si terrà il 29 giugno a partire dalle ore 14\,30. \nL’evento è riservato ai soci MESAP.
URL:https://www.mesap.it/event/gruppi-lavoro-b2b-8-giugno-2017-sessione-presentazioni-aziendali/
LOCATION:Unione Industriale di Torino\, Via Manfredo Fanti 17\, Torino\, 10128\, Italia
ORGANIZER;CN="Polo Mesap":MAILTO:segreteria@mesap.it
END:VEVENT
BEGIN:VEVENT
DTSTART;TZID=Europe/Rome:20170531T093000
DTEND;TZID=Europe/Rome:20170531T123000
DTSTAMP:20260425T170158
CREATED:20170517T104317Z
LAST-MODIFIED:20170615T153609Z
UID:3259-1496223000-1496233800@www.mesap.it
SUMMARY:Take Away dell’Innovazione — La criticità della fase di assemblaggio nei processi produttivi: tecnologie adesive innovative
DESCRIPTION:Nell’ambito del secondo ciclo di incontri del Take Away dell’innovazione l’azienda 3M ITALY terrà un incontro dedicato alle tecnologie adesive innovative. \nVerranno illustrate soluzioni innovative in sostituzione dei metodi tradizionali utilizzabili in diversi settori industriali\, come l’automotive\, il ferroviario\, il nautico e il mondo degli elettrodomestici. \nViti\, rivetti e saldature vengono sostituite da elementi innovativi come biadesivi\, adesivi strutturali e masse viscoelastiche. Questi elementi permettono di risolvere le criticità che emergono durante la fase di assemblaggio rendendo i cicli produttivi maggiormente efficaci e veloci. \n  \nGiunto alla sua quarta edizione\, il Take Away dell’Innovazione è un’iniziativa rivolta alle aziende interessate a scoprire prodotti e servizi pronti per essere integrati ed utilizzati in fabbrica. \n  \nGli interessati possono dare conferma della loro partecipazione su questa pagina. \n  \n  Scopri l’agenda completa \n  Scarica la presentazione \n 
URL:https://www.mesap.it/event/take-away-dellinnovazione-la-criticita-della-fase-assemblaggio-nei-processi-produttivi-tecnologie-adesive-innovative/
LOCATION:Confindustria Canavese\, Corso Nigra 2\, Ivrea\, Torino\, Italia
ATTACH;FMTTYPE=image/jpeg:https://www.mesap.it/wp-content/uploads/IMG_2755-1.jpg
ORGANIZER;CN="Polo Mesap":MAILTO:segreteria@mesap.it
END:VEVENT
BEGIN:VEVENT
DTSTART;TZID=Europe/Rome:20170530T093000
DTEND;TZID=Europe/Rome:20170530T123000
DTSTAMP:20260425T170158
CREATED:20170328T153332Z
LAST-MODIFIED:20170615T154653Z
UID:2569-1496136600-1496147400@www.mesap.it
SUMMARY:Take Away dell’Innovazione — Sistemi automatici di collaudo visivo 100%
DESCRIPTION:Nell’ambito del ciclo di incontri del Take Away dell’Innovazione i nostri associati SISTEMI 2 VISIONE e NOVASIS INNOVAZIONE terranno un incontro dedicato al collaudo visivo. \n  \nGiunto alla sua quarta edizione\, il Take Away dell’Innovazione è un’iniziativa rivolta alle aziende interessate a scoprire prodotti e servizi pronti per essere integrati e utilizzati in fabbrica. \n  \nGli interessati possono dare conferma della loro partecipazione su questa pagina. \n  \n  Scopri l’agenda completa \n  Scarica le presentazioni delle aziende intervenute
URL:https://www.mesap.it/event/take-away-dellinnovazione-la-misura-dimensionale-portatile-laser-tracking-radar-scanning/
LOCATION:Centro Congressi dell’Unione Industriale di Torino\, Via Vincenzo Vela 17\, Torino\, 10128\, Italy
ATTACH;FMTTYPE=image/jpeg:https://www.mesap.it/wp-content/uploads/IMG_2755-1.jpg
ORGANIZER;CN="Polo Mesap":MAILTO:segreteria@mesap.it
END:VEVENT
BEGIN:VEVENT
DTSTART;TZID=Europe/Rome:20170515T170000
DTEND;TZID=Europe/Rome:20170515T183000
DTSTAMP:20260425T170158
CREATED:20170504T145202Z
LAST-MODIFIED:20170510T092448Z
UID:2962-1494867600-1494873000@www.mesap.it
SUMMARY:QUBIT3D.COM: un nuovo modello di business per la plastica nella manifattura digitale
DESCRIPTION:La rete QUBIT 3D\, sviluppata da Politronica Srl\, è una realtà in continua espansione di manifattura digitale per la plastica\, distribuita su tutto il Nord Italia. Politronica promuove questo evento per incontrare imprese che producono o utilizzano componenti plastici per piccole serie (massimo 1000 pezzi) al fine di generare casi di studio. \nQuesto evento\, realizzato in collaborazione con il Digital Innovation Hub Piemonte\, permette alle imprese di entrare in contatto con una nuova filiera emergente nel Nord Italia\, che è in grado di produrre\, distribuire e consegnare componenti plastici per l’elettronica “next to door” just in time con capacità di progettazione\, design e integrazione con l’elettronica. \nLe imprese che parteciperanno ai casi di studio avranno la possibilità di usufruire della modellizzazione\, prototipazione e produzione di prima serie gratuitamente.\n  \nDi seguito l’agenda dettagliata dell’evento: \n\n17.00: Saluto di benvenuto: nuovi modelli di business nella fabbrica intelligente – Paolo Dondo\, Responsabile Tecnico MESAP\n17.10: QUBIT 3D: la visione\, la rete e la tecnologia – Alessandro Chiolerio\, CEO Politronica Srl\n17.30: Aperitivo di networking organizzato in tavoli di lavoro per la creazione dei casi di studio\n18.30: Conclusione
URL:https://www.mesap.it/event/qubit-3d-un-nuovo-modello-di-business-per-la-plastica-nella-manifattura-digitale/
LOCATION:Unione Industriale di Torino – Sale Sindacali\, Via Vela 21\, Torino\, Torino\, 10128
ORGANIZER;CN="Polo Mesap":MAILTO:segreteria@mesap.it
END:VEVENT
BEGIN:VEVENT
DTSTART;TZID=Europe/Rome:20170503T150000
DTEND;TZID=Europe/Rome:20170503T173000
DTSTAMP:20260425T170158
CREATED:20170418T152126Z
LAST-MODIFIED:20170418T152126Z
UID:2669-1493823600-1493832600@www.mesap.it
SUMMARY:Convegno ad A&T - La trasformazione digitale: dalla teoria alla pratica
DESCRIPTION:MESAP in collaborazione con il DIH – Digital Innovation HUB Piemonte organizza questo convegno su uno dei temi più caldi del momento in fatto di politica industriale\, anche grazie agli indirizzi e agli stimoli definiti dal Governo. \nNella percezione comune il paradigma di Fabbrica 4.0 viene spesso considerato come un modello di gestione proposto dalle grandi imprese per le grandi imprese. In realtà non è così\, soprattutto in un paese come l’Italia in cui l’impresa di piccola e media dimensione costituisce l’asse portante dell’industria manifatturiera. \nPer sfatare questo luogo comune\, in questo Convegno verranno illustrati casi applicativi in cui le piccole e medie imprese\, non solo industriali ma anche artigiane\, sono le protagoniste\, in qualità sia di fornitori che di utilizzatori delle tecnologie caratterizzanti la trasformazione digitale dei modelli di business. \nL’evento si svolgerà in Sala Schermo 2
URL:https://www.mesap.it/event/convegno-ad-la-trasformazione-digitale-dalla-teoria-alla-pratica/
LOCATION:Oval Lingotto\, Via Giacomo Mattè Trucco 70\, Torino\, Torino\, 10126\, Italy
ATTACH;FMTTYPE=image/png:https://www.mesap.it/wp-content/uploads/Schermata-2017-04-18-alle-16.03.52.png
ORGANIZER;CN="Polo Mesap":MAILTO:segreteria@mesap.it
END:VEVENT
BEGIN:VEVENT
DTSTART;TZID=Europe/Rome:20170410T150000
DTEND;TZID=Europe/Rome:20170410T180000
DTSTAMP:20260425T170158
CREATED:20170330T175802Z
LAST-MODIFIED:20170402T183054Z
UID:2588-1491836400-1491847200@www.mesap.it
SUMMARY:Smart Systems Integration - Gruppo di lavoro
DESCRIPTION:Il 10 Aprile 2017 si riunisce il Gruppo di Lavoro “Smart Systems Integration” sul tema: Opportunità offerte dal nuovo bando ECSEL e panoramica delle nuove tecnologie smart (dalla Agenda Strategica di Ricerca di EPoSS). \nDurante l’incontro verranno presentati i principali contenuti raccolti durante gli eventi della Piattaforma Europea sulla Smart Systems Integration (EPoSS) a cui il Polo MESAP partecipa. I partecipanti\, previa prenotazione\, avranno l’opportunità di conoscere di persona un ospite europeo: Cees Lanting\, esperto di Smart Systems ed IoT. \nGli interessati possono dare conferma della loro partecipazione all’evento su questa pagina entro il 7 aprile. \nChi desidera fissare un appuntamento con Cees Lanting è pregato di inviare una mail all’indirizzo segreteria@mesap.it . \nNB Il nostro ospite\, Cees Lanting parla Italiano
URL:https://www.mesap.it/event/gruppo-lavoro-smart-systems-integration/
LOCATION:Unione industriale di Torino – Sala 5\, Via Vincenzo Vela 21\, Turin\, 10100\, Italy
ORGANIZER;CN="Polo Mesap":MAILTO:segreteria@mesap.it
END:VEVENT
END:VCALENDAR